BEGIN:VCALENDAR
VERSION:2.0
PRODID:-//urwahl3000//fraktion-gruene-treptow-koepenick.de//DE
CALSCALE:GREGORIAN
BEGIN:VEVENT
DTSTART:20260604T170000
DTEND:20260604T170000
LOCATION:Rathaus Treptow\, BVV-Saal 17:00 Uhr
DTSTAMP:20260604T170000
SUMMARY:44. Sitzung der BVV
URL;VALUE=URI:https://fraktion-gruene-treptow-koepenick.de/termin/18-oeffentliche-sitzung-der-bezirksverordnetenversammlung/
DESCRIPTION:Diese Veranstaltung findet (öffentlich) im Rathaus Treptow statt.

BVV-Saal, Raum 218/217
(Neue Krugallee 4, 12435 Berlin)
UID:20260604T170000-20260604T170000-20260604T170000
END:VEVENT
END:VCALENDAR